BEGIN:VCALENDAR
VERSION:2.0
PRODID:-//The Life Church VA - ECPv6.15.18//NONSGML v1.0//EN
CALSCALE:GREGORIAN
METHOD:PUBLISH
X-WR-CALNAME:The Life Church VA
X-ORIGINAL-URL:https://thelifedc.org
X-WR-CALDESC:Events for The Life Church VA
REFRESH-INTERVAL;VALUE=DURATION:PT1H
X-Robots-Tag:noindex
X-PUBLISHED-TTL:PT1H
BEGIN:VTIMEZONE
TZID:America/New_York
BEGIN:DAYLIGHT
TZOFFSETFROM:-0500
TZOFFSETTO:-0400
TZNAME:EDT
DTSTART:20250309T070000
END:DAYLIGHT
BEGIN:STANDARD
TZOFFSETFROM:-0400
TZOFFSETTO:-0500
TZNAME:EST
DTSTART:20251102T060000
END:STANDARD
BEGIN:DAYLIGHT
TZOFFSETFROM:-0500
TZOFFSETTO:-0400
TZNAME:EDT
DTSTART:20260308T070000
END:DAYLIGHT
BEGIN:STANDARD
TZOFFSETFROM:-0400
TZOFFSETTO:-0500
TZNAME:EST
DTSTART:20261101T060000
END:STANDARD
BEGIN:DAYLIGHT
TZOFFSETFROM:-0500
TZOFFSETTO:-0400
TZNAME:EDT
DTSTART:20270314T070000
END:DAYLIGHT
BEGIN:STANDARD
TZOFFSETFROM:-0400
TZOFFSETTO:-0500
TZNAME:EST
DTSTART:20271107T060000
END:STANDARD
END:VTIMEZONE
BEGIN:VEVENT
DTSTART;TZID=America/New_York:20260425T093000
DTEND;TZID=America/New_York:20260425T120000
DTSTAMP:20260425T063232
CREATED:20260330T221744Z
LAST-MODIFIED:20260421T185038Z
UID:10014821-1777109400-1777118400@thelifedc.org
SUMMARY:Kingdom Builders Mentoring Training *POSTPONED*
DESCRIPTION:***THIS EVENT HAS BEEN POSTPONED***\nNEW DATE TBD\nKingdom Builders Mentoring Training  \nApril 25\, 2026\n9:30am – 12:00pm\n@ The Life HQ \nShape the Future: Become a Kingdom Builder\nAre you ready to make a lasting impact on the next generation? We are calling on dedicated men to step up and lead as we kick off the Kingdom Builders Mentoring Program. Join us on April 25\, 2026\, at 9:30 AM for a vital mentor training session designed to equip you with the tools to guide\, inspire\, and empower young men and boys in our community. This isn’t just a meeting; it’s the beginning of a movement to build character\, resilience\, and purpose. Your experience and wisdom are the foundations these young men need—come learn how you can help them build a brighter future. \n 
URL:https://thelifedc.org/event/kingdom-builders-mentoring-training/
LOCATION:The Life Church VA HQ\, 12680 Darby Brook Court\, Woodbridge\, 22192\, United States
ATTACH;FMTTYPE=image/jpeg:https://thelifedc.org/wp-content/uploads/Mentoring-Program-April-2026b.jpg
GEO:38.6762871;-77.2650303
X-APPLE-STRUCTURED-LOCATION;VALUE=URI;X-ADDRESS=The Life Church VA HQ 12680 Darby Brook Court Woodbridge 22192 United States;X-APPLE-RADIUS=500;X-TITLE=12680 Darby Brook Court:geo:-77.2650303,38.6762871
END:VEVENT
END:VCALENDAR