BEGIN:VCALENDAR
VERSION:2.0
PRODID:-//The Life Church VA - ECPv6.15.18//NONSGML v1.0//EN
CALSCALE:GREGORIAN
METHOD:PUBLISH
X-WR-CALNAME:The Life Church VA
X-ORIGINAL-URL:https://thelifedc.org
X-WR-CALDESC:Events for The Life Church VA
REFRESH-INTERVAL;VALUE=DURATION:PT1H
X-Robots-Tag:noindex
X-PUBLISHED-TTL:PT1H
BEGIN:VTIMEZONE
TZID:America/New_York
BEGIN:DAYLIGHT
TZOFFSETFROM:-0500
TZOFFSETTO:-0400
TZNAME:EDT
DTSTART:20250309T070000
END:DAYLIGHT
BEGIN:STANDARD
TZOFFSETFROM:-0400
TZOFFSETTO:-0500
TZNAME:EST
DTSTART:20251102T060000
END:STANDARD
BEGIN:DAYLIGHT
TZOFFSETFROM:-0500
TZOFFSETTO:-0400
TZNAME:EDT
DTSTART:20260308T070000
END:DAYLIGHT
BEGIN:STANDARD
TZOFFSETFROM:-0400
TZOFFSETTO:-0500
TZNAME:EST
DTSTART:20261101T060000
END:STANDARD
BEGIN:DAYLIGHT
TZOFFSETFROM:-0500
TZOFFSETTO:-0400
TZNAME:EDT
DTSTART:20270314T070000
END:DAYLIGHT
BEGIN:STANDARD
TZOFFSETFROM:-0400
TZOFFSETTO:-0500
TZNAME:EST
DTSTART:20271107T060000
END:STANDARD
END:VTIMEZONE
BEGIN:VEVENT
DTSTART;VALUE=DATE:20260507
DTEND;VALUE=DATE:20260508
DTSTAMP:20260425T063547
CREATED:20260416T195437Z
LAST-MODIFIED:20260416T195437Z
UID:10014850-1778112000-1778198399@thelifedc.org
SUMMARY:National Day of Prayer - Manassas
DESCRIPTION:National Day of Prayer\nUnited Body of Christ\nGreater Manassas and Prince William Co\,\nNational Day of Prayer\nPrince William Fairgrounds:\n10624 Dumfries Rd\, Manassas\, VA 20112 \n  \n\n6 PM gates open with Free Parking\n7 PM Service begins\, Worship and Prayer as led by our Church Leaders\n\nOne Body\, One Church\, making known Christ by our love for one another. \n~~~ \nMORE EVENTS: \nBible Reading Marathon on National Day of Prayer\n9:00 am – 5:00 pm\nPrince William County Courthouse\n9311 Lee Ave\, Manassas VA 20110
URL:https://thelifedc.org/event/national-day-of-prayer-manassas/
LOCATION:Prince William Fairgrounds\, 10624 Dumfries Rd\, Manassas\, 20112\, United States
ATTACH;FMTTYPE=image/jpeg:https://thelifedc.org/wp-content/uploads/National-Day-of-Prayer-Manassas.jpg
GEO:38.7246981;-77.4742227
X-APPLE-STRUCTURED-LOCATION;VALUE=URI;X-ADDRESS=Prince William Fairgrounds 10624 Dumfries Rd Manassas 20112 United States;X-APPLE-RADIUS=500;X-TITLE=10624 Dumfries Rd:geo:-77.4742227,38.7246981
END:VEVENT
END:VCALENDAR